BEGIN:VCALENDAR
VERSION:2.0
PRODID:-//St Gianna - ECPv4.6.13//NONSGML v1.0//EN
CALSCALE:GREGORIAN
METHOD:PUBLISH
X-WR-CALNAME:St Gianna
X-ORIGINAL-URL:https://www.stgianna.ca
X-WR-CALDESC:Events for St Gianna
BEGIN:VEVENT
DTSTART;TZID=America/Winnipeg:20260428T190000
DTEND;TZID=America/Winnipeg:20260428T190000
DTSTAMP:20260421T213315
CREATED:20260102T162035Z
LAST-MODIFIED:20260102T162035Z
UID:27764-1777402800-1777402800@www.stgianna.ca
SUMMARY:7pm Novena Mass
DESCRIPTION:The Novena Mass in Honour of Saint Gianna\n\nA tradition of praying together\, celebrating the Eucharist and honouring the relics of this beloved Saint – a woman\, wife\, mother and a doctor.\n\nThe Novena Mass is celebrated weekly\, Tuesdays at 7:00pm. at St. Gianna’s Parish.\n\n\n\n
URL:https://www.stgianna.ca/church-event/7pm-novena-mass-3/2026-04-28/
LOCATION:15 Columbia Drive\, Winnipeg\, Manitoba\, R3Y 0R5\, Canada
GEO:49.8189597;-97.2059854
X-APPLE-STRUCTURED-LOCATION;VALUE=URI;X-ADDRESS=15 Columbia Drive Winnipeg Manitoba R3Y 0R5 Canada;X-APPLE-RADIUS=500;X-TITLE=15 Columbia Drive:geo:-97.2059854,49.8189597
CATEGORIES:Liturgy & Mass,Mass,Parish
END:VEVENT
BEGIN:VEVENT
DTSTART;TZID=America/Winnipeg:20260428T190000
DTEND;TZID=America/Winnipeg:20260428T190000
DTSTAMP:20260421T213315
CREATED:20260418T171815Z
LAST-MODIFIED:20260418T171844Z
UID:27855-1777402800-1777402800@www.stgianna.ca
SUMMARY:Feast Day Celebration: St. Gianna
DESCRIPTION:The Feast Day of our Patroness\, Saint Gianna Beretta Molla\, will be celebrated on Tuesday\, April 28th at 7:00 p.m.\, within the context of the Novena Mass in her honour.  All are welcome! \n  \n  \n
URL:https://www.stgianna.ca/church-event/feast-day-celebration-st-gianna/
LOCATION:15 Columbia Drive\, Winnipeg\, Manitoba\, R3Y 0R5\, Canada
GEO:49.8189597;-97.2059854
X-APPLE-STRUCTURED-LOCATION;VALUE=URI;X-ADDRESS=15 Columbia Drive Winnipeg Manitoba R3Y 0R5 Canada;X-APPLE-RADIUS=500;X-TITLE=15 Columbia Drive:geo:-97.2059854,49.8189597
CATEGORIES:Columbarium,Liturgy & Mass,Mass,Parish
ATTACH;FMTTYPE=image/jpeg:https://www.stgianna.ca/wp-content/uploads/2020/04/Feast-Day-slider.jpg
END:VEVENT
END:VCALENDAR