BEGIN:VCALENDAR
VERSION:2.0
PRODID:-//St Gianna - ECPv4.6.13//NONSGML v1.0//EN
CALSCALE:GREGORIAN
METHOD:PUBLISH
X-WR-CALNAME:St Gianna
X-ORIGINAL-URL:https://www.stgianna.ca
X-WR-CALDESC:Events for St Gianna
BEGIN:VEVENT
DTSTART;TZID=America/Winnipeg:20260203T190000
DTEND;TZID=America/Winnipeg:20260203T190000
DTSTAMP:20260422T001523
CREATED:20260102T162035Z
LAST-MODIFIED:20260402T180130Z
UID:27270-1770145200-1770145200@www.stgianna.ca
SUMMARY:7pm Novena Mass
DESCRIPTION:The Novena Mass in Honour of Saint Gianna\n\nA tradition of praying together\, celebrating the Eucharist and honouring the relics of this beloved Saint – a woman\, wife\, mother and a doctor.\n\nThe Novena Mass is celebrated weekly\, Tuesdays at 7:00pm. at St. Gianna’s Parish.\n\n\n\n
URL:https://www.stgianna.ca/church-event/7pm-novena-mass-3/2026-02-03/
LOCATION:15 Columbia Drive\, Winnipeg\, Manitoba\, R3Y 0R5\, Canada
GEO:49.8189597;-97.2059854
X-APPLE-STRUCTURED-LOCATION;VALUE=URI;X-ADDRESS=15 Columbia Drive Winnipeg Manitoba R3Y 0R5 Canada;X-APPLE-RADIUS=500;X-TITLE=15 Columbia Drive:geo:-97.2059854,49.8189597
CATEGORIES:Liturgy & Mass,Mass,Parish
END:VEVENT
BEGIN:VEVENT
DTSTART;TZID=America/Winnipeg:20260203T190000
DTEND;TZID=America/Winnipeg:20260203T190000
DTSTAMP:20260422T001523
CREATED:20260120T204702Z
LAST-MODIFIED:20260120T204702Z
UID:27277-1770145200-1770145200@www.stgianna.ca
SUMMARY:Monthly Memorial Mass
DESCRIPTION:You are invited to participate in our Monthly Memorial Mass\, remembering all those who have died in February and are entombed or memorialized in Living Waters Columbarium.\n\nWithin the context of our 7:00 p.m. Novena Mass\, those who have died within this month and are currently entombed or memorialized in Living Waters Columbarium\, will be named and remembered in the community’s prayer.\n\nThis is a wonderful opportunity to mark the death anniversary of a beloved family member or friend\, and to take this opportunity to visit their place of entombment and remembrance.\n\n\n
URL:https://www.stgianna.ca/church-event/monthly-memorial-mass-3/
LOCATION:15 Columbia Drive\, Winnipeg\, Manitoba\, R3Y 0R5\, Canada
GEO:49.8189597;-97.2059854
X-APPLE-STRUCTURED-LOCATION;VALUE=URI;X-ADDRESS=15 Columbia Drive Winnipeg Manitoba R3Y 0R5 Canada;X-APPLE-RADIUS=500;X-TITLE=15 Columbia Drive:geo:-97.2059854,49.8189597
CATEGORIES:Columbarium,Liturgy & Mass,Mass,Parish
END:VEVENT
END:VCALENDAR