BEGIN:VCALENDAR
VERSION:2.0
PRODID:-//St Gianna - ECPv4.6.13//NONSGML v1.0//EN
CALSCALE:GREGORIAN
METHOD:PUBLISH
X-WR-CALNAME:St Gianna
X-ORIGINAL-URL:https://www.stgianna.ca
X-WR-CALDESC:Events for St Gianna
BEGIN:VEVENT
DTSTART;VALUE=DATE:20251010
DTEND;VALUE=DATE:20251011
DTSTAMP:20260422T202911
CREATED:20251003T190121Z
LAST-MODIFIED:20251003T190121Z
UID:26198-1760054400-1760140799@www.stgianna.ca
SUMMARY:NO Mass
DESCRIPTION:
URL:https://www.stgianna.ca/church-event/no-mass-3/2025-10-10/
CATEGORIES:Columbarium,Parish
END:VEVENT
END:VCALENDAR