BEGIN:VCALENDAR
VERSION:2.0
PRODID:-//St Gianna - ECPv4.6.13//NONSGML v1.0//EN
CALSCALE:GREGORIAN
METHOD:PUBLISH
X-WR-CALNAME:St Gianna
X-ORIGINAL-URL:https://www.stgianna.ca
X-WR-CALDESC:Events for St Gianna
BEGIN:VEVENT
DTSTART;TZID=America/Winnipeg:20260414T181500
DTEND;TZID=America/Winnipeg:20260414T181500
DTSTAMP:20260421T184841
CREATED:20260102T161937Z
LAST-MODIFIED:20260102T161937Z
UID:27752-1776190500-1776190500@www.stgianna.ca
SUMMARY:6:15pm Rosary Prayer
DESCRIPTION:The communal praying of the rosary takes place at 6:15 p.m. in the Worship Space\, prior to the Novena Mass in honour of Saint Gianna. \n  \n  \n
URL:https://www.stgianna.ca/church-event/615pm-rosary-prayer-3/2026-04-14/
CATEGORIES:Parish
END:VEVENT
BEGIN:VEVENT
DTSTART;TZID=America/Winnipeg:20260414T190000
DTEND;TZID=America/Winnipeg:20260414T190000
DTSTAMP:20260421T184841
CREATED:20260102T162035Z
LAST-MODIFIED:20260102T162035Z
UID:27762-1776193200-1776193200@www.stgianna.ca
SUMMARY:7pm Novena Mass
DESCRIPTION:The Novena Mass in Honour of Saint Gianna\n\nA tradition of praying together\, celebrating the Eucharist and honouring the relics of this beloved Saint – a woman\, wife\, mother and a doctor.\n\nThe Novena Mass is celebrated weekly\, Tuesdays at 7:00pm. at St. Gianna’s Parish.\n\n\n\n
URL:https://www.stgianna.ca/church-event/7pm-novena-mass-3/2026-04-14/
LOCATION:15 Columbia Drive\, Winnipeg\, Manitoba\, R3Y 0R5\, Canada
GEO:49.8189597;-97.2059854
X-APPLE-STRUCTURED-LOCATION;VALUE=URI;X-ADDRESS=15 Columbia Drive Winnipeg Manitoba R3Y 0R5 Canada;X-APPLE-RADIUS=500;X-TITLE=15 Columbia Drive:geo:-97.2059854,49.8189597
CATEGORIES:Liturgy & Mass,Mass,Parish
END:VEVENT
BEGIN:VEVENT
DTSTART;TZID=America/Winnipeg:20260414T190000
DTEND;TZID=America/Winnipeg:20260414T190000
DTSTAMP:20260421T184841
CREATED:20260402T180341Z
LAST-MODIFIED:20260402T180341Z
UID:27773-1776193200-1776193200@www.stgianna.ca
SUMMARY:Monthly Nuptial Blessings Mass
DESCRIPTION:within the 7:00 p.m. Novena Mass \nThe Vocation of Marriage continues to be foundation for the building up of society and the Church. \nAs an icon of Christ’s own love for the Church\, marriage is at the service of the entire community\, as we witness what enduring love can ultimately do.  Our patroness\, Saint Gianna with her husband Pietro\, knew the gift and responsibility of sharing in such a vocation. \nThis Novena Mass will include a special blessing for all of our married couples celebrating a wedding anniversary in this month\, including a renewal of vows for those marking 10\, 25\, 40\, 50 or more years of marriage.  All couples marking their anniversary in this particular month are encouraged to make this event a part of their ongoing life together\, and are encouraged to bring their family and friends along with them as together with God and the community\, we join in giving thanks for your vocation. \nPlease indicate if you will be attending the upcoming Nuptial Anniversary Mass for those who were married in April\, by using the link provided. \nclick:  Sign-up to Participate in the Nuptial Anniversary Mass\n  \n  \n
URL:https://www.stgianna.ca/church-event/monthly-nuptial-blessings-mass-4/
LOCATION:15 Columbia Drive\, Winnipeg\, Manitoba\, R3Y 0R5\, Canada
GEO:49.8189597;-97.2059854
X-APPLE-STRUCTURED-LOCATION;VALUE=URI;X-ADDRESS=15 Columbia Drive Winnipeg Manitoba R3Y 0R5 Canada;X-APPLE-RADIUS=500;X-TITLE=15 Columbia Drive:geo:-97.2059854,49.8189597
CATEGORIES:Liturgy & Mass,Mass,Parish
END:VEVENT
END:VCALENDAR