BEGIN:VCALENDAR
VERSION:2.0
PRODID:-//St Gianna - ECPv4.6.13//NONSGML v1.0//EN
CALSCALE:GREGORIAN
METHOD:PUBLISH
X-WR-CALNAME:St Gianna
X-ORIGINAL-URL:https://www.stgianna.ca
X-WR-CALDESC:Events for St Gianna
BEGIN:VEVENT
DTSTART;VALUE=DATE:20260405
DTEND;VALUE=DATE:20260406
DTSTAMP:20260421T184814
CREATED:20260313T194944Z
LAST-MODIFIED:20260313T194944Z
UID:27641-1775347200-1775433599@www.stgianna.ca
SUMMARY:Easter Sunday
DESCRIPTION:
URL:https://www.stgianna.ca/church-event/easter-sunday/
CATEGORIES:Columbarium,Parish
END:VEVENT
BEGIN:VEVENT
DTSTART;TZID=America/Winnipeg:20260405T090000
DTEND;TZID=America/Winnipeg:20260405T090000
DTSTAMP:20260421T184814
CREATED:20251025T190522Z
LAST-MODIFIED:20260402T181442Z
UID:27643-1775379600-1775379600@www.stgianna.ca
SUMMARY:9:00am Sunday Liturgy
DESCRIPTION:
URL:https://www.stgianna.ca/church-event/900am-sunday-liturgy/2026-04-05/
LOCATION:15 Columbia Drive\, Winnipeg\, Manitoba\, R3Y 0R5\, Canada
GEO:49.8189597;-97.2059854
X-APPLE-STRUCTURED-LOCATION;VALUE=URI;X-ADDRESS=15 Columbia Drive Winnipeg Manitoba R3Y 0R5 Canada;X-APPLE-RADIUS=500;X-TITLE=15 Columbia Drive:geo:-97.2059854,49.8189597
CATEGORIES:Liturgy & Mass,Mass,Parish
END:VEVENT
BEGIN:VEVENT
DTSTART;TZID=America/Winnipeg:20260405T110000
DTEND;TZID=America/Winnipeg:20260405T110000
DTSTAMP:20260421T184814
CREATED:20231213T173733Z
LAST-MODIFIED:20260402T184455Z
UID:27644-1775386800-1775386800@www.stgianna.ca
SUMMARY:11:00am Sunday Liturgy
DESCRIPTION:
URL:https://www.stgianna.ca/church-event/1100am-sunday-liturgy-5-2024-01-14/2026-04-05/
LOCATION:15 Columbia Drive\, Winnipeg\, Manitoba\, R3Y 0R5\, Canada
GEO:49.8189597;-97.2059854
X-APPLE-STRUCTURED-LOCATION;VALUE=URI;X-ADDRESS=15 Columbia Drive Winnipeg Manitoba R3Y 0R5 Canada;X-APPLE-RADIUS=500;X-TITLE=15 Columbia Drive:geo:-97.2059854,49.8189597
CATEGORIES:Liturgy & Mass,Mass,Parish
END:VEVENT
END:VCALENDAR