BEGIN:VCALENDAR
VERSION:2.0
PRODID:-//St Gianna - ECPv4.6.13//NONSGML v1.0//EN
CALSCALE:GREGORIAN
METHOD:PUBLISH
X-WR-CALNAME:St Gianna
X-ORIGINAL-URL:https://www.stgianna.ca
X-WR-CALDESC:Events for St Gianna
BEGIN:VEVENT
DTSTART;VALUE=DATE:20260402
DTEND;VALUE=DATE:20260405
DTSTAMP:20260421T190206
CREATED:20260313T194715Z
LAST-MODIFIED:20260313T194715Z
UID:27633-1775088000-1775347199@www.stgianna.ca
SUMMARY:Sacred Paschal Triduum
DESCRIPTION:
URL:https://www.stgianna.ca/church-event/sacred-paschal-triduum/
CATEGORIES:Columbarium,Parish
END:VEVENT
BEGIN:VEVENT
DTSTART;TZID=America/Winnipeg:20260402T193000
DTEND;TZID=America/Winnipeg:20260402T193000
DTSTAMP:20260421T190206
CREATED:20260313T194750Z
LAST-MODIFIED:20260313T194750Z
UID:27635-1775158200-1775158200@www.stgianna.ca
SUMMARY:7:30pm Holy Thursday
DESCRIPTION:
URL:https://www.stgianna.ca/church-event/730pm-holy-thursday/
LOCATION:15 Columbia Drive\, Winnipeg\, Manitoba\, R3Y 0R5\, Canada
GEO:49.8189597;-97.2059854
X-APPLE-STRUCTURED-LOCATION;VALUE=URI;X-ADDRESS=15 Columbia Drive Winnipeg Manitoba R3Y 0R5 Canada;X-APPLE-RADIUS=500;X-TITLE=15 Columbia Drive:geo:-97.2059854,49.8189597
CATEGORIES:Columbarium,Liturgy & Mass,Mass,Parish
END:VEVENT
END:VCALENDAR