BEGIN:VCALENDAR
VERSION:2.0
PRODID:-//St Gianna - ECPv4.6.13//NONSGML v1.0//EN
CALSCALE:GREGORIAN
METHOD:PUBLISH
X-WR-CALNAME:St Gianna
X-ORIGINAL-URL:https://www.stgianna.ca
X-WR-CALDESC:Events for St Gianna
BEGIN:VEVENT
DTSTART;VALUE=DATE:20260331
DTEND;VALUE=DATE:20260401
DTSTAMP:20260421T184651
CREATED:20260331T141145Z
LAST-MODIFIED:20260331T141145Z
UID:27720-1774915200-1775001599@www.stgianna.ca
SUMMARY:NO Novena Mass
DESCRIPTION:There is NO Novena Mass at St. Gianna’s this evening\, as all priests in the Archdiocese of Winnipeg will be with the Archbishop\, celebrating the Chrism Mass at St. Mary’s Cathedral. \n  \n  \n
URL:https://www.stgianna.ca/church-event/no-novena-mass/
CATEGORIES:Columbarium,Parish
END:VEVENT
BEGIN:VEVENT
DTSTART;TZID=America/Winnipeg:20260331T190000
DTEND;TZID=America/Winnipeg:20260331T190000
DTSTAMP:20260421T184651
CREATED:20260313T194607Z
LAST-MODIFIED:20260313T194607Z
UID:27631-1774983600-1774983600@www.stgianna.ca
SUMMARY:7pm Chrism Mass at St. Mary's Cathedral
DESCRIPTION:Mass of the Oils will be celebrated at St. Mary’s Cathedral\, Winnipeg\, with Archbishop Chatlain presiding. \n  \n  \n
URL:https://www.stgianna.ca/church-event/7pm-chrism-mass-at-st-marys-cathedral/
LOCATION:353 St. Mary Avenue\, Winnipeg\, Manitoba\, Canada
GEO:49.890517;-97.1436653
X-APPLE-STRUCTURED-LOCATION;VALUE=URI;X-ADDRESS=353 St. Mary Avenue Winnipeg Manitoba Canada;X-APPLE-RADIUS=500;X-TITLE=353 St. Mary Avenue:geo:-97.1436653,49.890517
CATEGORIES:Liturgy & Mass,Mass,Parish
END:VEVENT
END:VCALENDAR