BEGIN:VCALENDAR
VERSION:2.0
PRODID:-//St Gianna - ECPv4.6.13//NONSGML v1.0//EN
CALSCALE:GREGORIAN
METHOD:PUBLISH
X-WR-CALNAME:St Gianna
X-ORIGINAL-URL:https://www.stgianna.ca
X-WR-CALDESC:Events for St Gianna
BEGIN:VEVENT
DTSTART;VALUE=DATE:20260328
DTEND;VALUE=DATE:20260330
DTSTAMP:20260421T184631
CREATED:20260313T194415Z
LAST-MODIFIED:20260313T194415Z
UID:27629-1774656000-1774828799@www.stgianna.ca
SUMMARY:Palm Sunday
DESCRIPTION:
URL:https://www.stgianna.ca/church-event/palm-sunday/
CATEGORIES:Columbarium,Parish
END:VEVENT
BEGIN:VEVENT
DTSTART;TZID=America/Winnipeg:20260329T090000
DTEND;TZID=America/Winnipeg:20260329T090000
DTSTAMP:20260421T184631
CREATED:20251025T190522Z
LAST-MODIFIED:20260402T181442Z
UID:27399-1774774800-1774774800@www.stgianna.ca
SUMMARY:9:00am Sunday Liturgy
DESCRIPTION:
URL:https://www.stgianna.ca/church-event/900am-sunday-liturgy/2026-03-29/
LOCATION:15 Columbia Drive\, Winnipeg\, Manitoba\, R3Y 0R5\, Canada
GEO:49.8189597;-97.2059854
X-APPLE-STRUCTURED-LOCATION;VALUE=URI;X-ADDRESS=15 Columbia Drive Winnipeg Manitoba R3Y 0R5 Canada;X-APPLE-RADIUS=500;X-TITLE=15 Columbia Drive:geo:-97.2059854,49.8189597
CATEGORIES:Liturgy & Mass,Mass,Parish
END:VEVENT
BEGIN:VEVENT
DTSTART;TZID=America/Winnipeg:20260329T110000
DTEND;TZID=America/Winnipeg:20260329T110000
DTSTAMP:20260421T184631
CREATED:20231213T173733Z
LAST-MODIFIED:20260402T184454Z
UID:27408-1774782000-1774782000@www.stgianna.ca
SUMMARY:11:00am Sunday Liturgy
DESCRIPTION:
URL:https://www.stgianna.ca/church-event/1100am-sunday-liturgy-5-2024-01-14/2026-03-29/
LOCATION:15 Columbia Drive\, Winnipeg\, Manitoba\, R3Y 0R5\, Canada
GEO:49.8189597;-97.2059854
X-APPLE-STRUCTURED-LOCATION;VALUE=URI;X-ADDRESS=15 Columbia Drive Winnipeg Manitoba R3Y 0R5 Canada;X-APPLE-RADIUS=500;X-TITLE=15 Columbia Drive:geo:-97.2059854,49.8189597
CATEGORIES:Liturgy & Mass,Mass,Parish
END:VEVENT
END:VCALENDAR