BEGIN:VCALENDAR
VERSION:2.0
PRODID:-//St Gianna - ECPv4.6.13//NONSGML v1.0//EN
CALSCALE:GREGORIAN
METHOD:PUBLISH
X-WR-CALNAME:St Gianna
X-ORIGINAL-URL:https://www.stgianna.ca
X-WR-CALDESC:Events for St Gianna
BEGIN:VEVENT
DTSTART;TZID=America/Winnipeg:20260314T163000
DTEND;TZID=America/Winnipeg:20260314T163000
DTSTAMP:20260421T202756
CREATED:20250621T200430Z
LAST-MODIFIED:20260402T181445Z
UID:27410-1773505800-1773505800@www.stgianna.ca
SUMMARY:4:30pm Sunday Liturgy
DESCRIPTION:
URL:https://www.stgianna.ca/church-event/430pm-sunday-liturgy/2026-03-14/
LOCATION:15 Columbia Drive\, Winnipeg\, Manitoba\, R3Y 0R5\, Canada
GEO:49.8189597;-97.2059854
X-APPLE-STRUCTURED-LOCATION;VALUE=URI;X-ADDRESS=15 Columbia Drive Winnipeg Manitoba R3Y 0R5 Canada;X-APPLE-RADIUS=500;X-TITLE=15 Columbia Drive:geo:-97.2059854,49.8189597
CATEGORIES:Liturgy & Mass,Mass,Parish
END:VEVENT
END:VCALENDAR