BEGIN:VCALENDAR
VERSION:2.0
PRODID:-//St Gianna - ECPv4.6.13//NONSGML v1.0//EN
CALSCALE:GREGORIAN
METHOD:PUBLISH
X-WR-CALNAME:St Gianna
X-ORIGINAL-URL:https://www.stgianna.ca
X-WR-CALDESC:Events for St Gianna
BEGIN:VEVENT
DTSTART;TZID=America/Winnipeg:20260313T100000
DTEND;TZID=America/Winnipeg:20260313T100000
DTSTAMP:20260421T202741
CREATED:20260127T212347Z
LAST-MODIFIED:20260228T184941Z
UID:27545-1773396000-1773396000@www.stgianna.ca
SUMMARY:10:00am Weekday Mass
DESCRIPTION:
URL:https://www.stgianna.ca/church-event/1000am-weekday-mass-10/2026-03-13/
LOCATION:15 Columbia Drive\, Winnipeg\, Manitoba\, R3Y 0R5\, Canada
GEO:49.8189597;-97.2059854
X-APPLE-STRUCTURED-LOCATION;VALUE=URI;X-ADDRESS=15 Columbia Drive Winnipeg Manitoba R3Y 0R5 Canada;X-APPLE-RADIUS=500;X-TITLE=15 Columbia Drive:geo:-97.2059854,49.8189597
CATEGORIES:Parish
END:VEVENT
END:VCALENDAR