BEGIN:VCALENDAR
VERSION:2.0
PRODID:-//St Gianna - ECPv4.6.13//NONSGML v1.0//EN
CALSCALE:GREGORIAN
METHOD:PUBLISH
X-WR-CALNAME:St Gianna
X-ORIGINAL-URL:https://www.stgianna.ca
X-WR-CALDESC:Events for St Gianna
BEGIN:VEVENT
DTSTART;TZID=America/Winnipeg:20260303T181500
DTEND;TZID=America/Winnipeg:20260303T181500
DTSTAMP:20260421T202741
CREATED:20260102T161937Z
LAST-MODIFIED:20260402T180055Z
UID:27507-1772561700-1772561700@www.stgianna.ca
SUMMARY:6:15pm Rosary Prayer
DESCRIPTION:The communal praying of the rosary takes place at 6:15 p.m. in the Worship Space\, prior to the Novena Mass in honour of Saint Gianna. \n  \n  \n
URL:https://www.stgianna.ca/church-event/615pm-rosary-prayer-3/2026-03-03/
CATEGORIES:Parish
END:VEVENT
BEGIN:VEVENT
DTSTART;TZID=America/Winnipeg:20260303T190000
DTEND;TZID=America/Winnipeg:20260303T190000
DTSTAMP:20260421T202741
CREATED:20260102T162035Z
LAST-MODIFIED:20260402T180132Z
UID:27515-1772564400-1772564400@www.stgianna.ca
SUMMARY:7pm Novena Mass
DESCRIPTION:The Novena Mass in Honour of Saint Gianna\n\nA tradition of praying together\, celebrating the Eucharist and honouring the relics of this beloved Saint – a woman\, wife\, mother and a doctor.\n\nThe Novena Mass is celebrated weekly\, Tuesdays at 7:00pm. at St. Gianna’s Parish.\n\n\n\n
URL:https://www.stgianna.ca/church-event/7pm-novena-mass-3/2026-03-03/
LOCATION:15 Columbia Drive\, Winnipeg\, Manitoba\, R3Y 0R5\, Canada
GEO:49.8189597;-97.2059854
X-APPLE-STRUCTURED-LOCATION;VALUE=URI;X-ADDRESS=15 Columbia Drive Winnipeg Manitoba R3Y 0R5 Canada;X-APPLE-RADIUS=500;X-TITLE=15 Columbia Drive:geo:-97.2059854,49.8189597
CATEGORIES:Liturgy & Mass,Mass,Parish
END:VEVENT
BEGIN:VEVENT
DTSTART;TZID=America/Winnipeg:20260303T190000
DTEND;TZID=America/Winnipeg:20260303T190000
DTSTAMP:20260421T202741
CREATED:20260226T214635Z
LAST-MODIFIED:20260226T214635Z
UID:27524-1772564400-1772564400@www.stgianna.ca
SUMMARY:Monthly Memorial Mass
DESCRIPTION:You are invited to participate in our Monthly Memorial Mass\, remembering all those who have died in March and are entombed or memorialized in Living Waters Columbarium.\n\nWithin the context of our 7:00 p.m. Novena Mass\, those who have died within this month and are currently entombed or memorialized in Living Waters Columbarium\, will be named and remembered in the community’s prayer.\n\nThis is a wonderful opportunity to mark the death anniversary of a beloved family member or friend\, and to take this opportunity to visit their place of entombment and remembrance.\n\n\n
URL:https://www.stgianna.ca/church-event/monthly-memorial-mass-4/
LOCATION:15 Columbia Drive\, Winnipeg\, Manitoba\, R3Y 0R5\, Canada
GEO:49.8189597;-97.2059854
X-APPLE-STRUCTURED-LOCATION;VALUE=URI;X-ADDRESS=15 Columbia Drive Winnipeg Manitoba R3Y 0R5 Canada;X-APPLE-RADIUS=500;X-TITLE=15 Columbia Drive:geo:-97.2059854,49.8189597
CATEGORIES:Columbarium,Liturgy & Mass,Mass,Parish
END:VEVENT
END:VCALENDAR