BEGIN:VCALENDAR
VERSION:2.0
PRODID:-//St Gianna - ECPv4.6.13//NONSGML v1.0//EN
CALSCALE:GREGORIAN
METHOD:PUBLISH
X-WR-CALNAME:St Gianna
X-ORIGINAL-URL:https://www.stgianna.ca
X-WR-CALDESC:Events for St Gianna
BEGIN:VEVENT
DTSTART;VALUE=DATE:20260218
DTEND;VALUE=DATE:20260219
DTSTAMP:20260421T215312
CREATED:20260120T204829Z
LAST-MODIFIED:20260204T163701Z
UID:27281-1771372800-1771459199@www.stgianna.ca
SUMMARY:Ash Wednesday
DESCRIPTION:
URL:https://www.stgianna.ca/church-event/ash-wednesday/
CATEGORIES:Parish
END:VEVENT
BEGIN:VEVENT
DTSTART;TZID=America/Winnipeg:20260218T100000
DTEND;TZID=America/Winnipeg:20260218T100000
DTSTAMP:20260421T215312
CREATED:20260127T212347Z
LAST-MODIFIED:20260204T163448Z
UID:27343-1771408800-1771408800@www.stgianna.ca
SUMMARY:10:00am Ash Wednesday Liturgy
DESCRIPTION:
URL:https://www.stgianna.ca/church-event/1000am-ash-wednesday-liturgy/
LOCATION:15 Columbia Drive\, Winnipeg\, Manitoba\, R3Y 0R5\, Canada
GEO:49.8189597;-97.2059854
X-APPLE-STRUCTURED-LOCATION;VALUE=URI;X-ADDRESS=15 Columbia Drive Winnipeg Manitoba R3Y 0R5 Canada;X-APPLE-RADIUS=500;X-TITLE=15 Columbia Drive:geo:-97.2059854,49.8189597
CATEGORIES:Columbarium,Liturgy & Mass,Mass,Parish
END:VEVENT
BEGIN:VEVENT
DTSTART;TZID=America/Winnipeg:20260218T183000
DTEND;TZID=America/Winnipeg:20260218T183000
DTSTAMP:20260421T215312
CREATED:20260204T163220Z
LAST-MODIFIED:20260204T163458Z
UID:27390-1771439400-1771439400@www.stgianna.ca
SUMMARY:6:30pm Ash Wednesday Liturgy
DESCRIPTION:
URL:https://www.stgianna.ca/church-event/630pm-ash-wednesday-liturgy/
LOCATION:15 Columbia Drive\, Winnipeg\, Manitoba\, R3Y 0R5\, Canada
GEO:49.8189597;-97.2059854
X-APPLE-STRUCTURED-LOCATION;VALUE=URI;X-ADDRESS=15 Columbia Drive Winnipeg Manitoba R3Y 0R5 Canada;X-APPLE-RADIUS=500;X-TITLE=15 Columbia Drive:geo:-97.2059854,49.8189597
CATEGORIES:Columbarium,Liturgy & Mass,Mass,Parish
END:VEVENT
END:VCALENDAR