BEGIN:VCALENDAR
VERSION:2.0
PRODID:-//St Gianna - ECPv4.6.13//NONSGML v1.0//EN
CALSCALE:GREGORIAN
METHOD:PUBLISH
X-WR-CALNAME:St Gianna
X-ORIGINAL-URL:https://www.stgianna.ca
X-WR-CALDESC:Events for St Gianna
BEGIN:VEVENT
DTSTART;TZID=America/Winnipeg:20260212T130000
DTEND;TZID=America/Winnipeg:20260212T150000
DTSTAMP:20260421T215322
CREATED:20260206T162958Z
LAST-MODIFIED:20260228T175532Z
UID:27435-1770901200-1770908400@www.stgianna.ca
SUMMARY:Prayer Shawl Ministry
DESCRIPTION:
URL:https://www.stgianna.ca/church-event/prayer-shawl-ministry-3/2026-02-12/
CATEGORIES:Parish
END:VEVENT
END:VCALENDAR