BEGIN:VCALENDAR
VERSION:2.0
PRODID:-//St Gianna - ECPv4.6.13//NONSGML v1.0//EN
CALSCALE:GREGORIAN
METHOD:PUBLISH
X-WR-CALNAME:St Gianna
X-ORIGINAL-URL:https://www.stgianna.ca
X-WR-CALDESC:Events for St Gianna
BEGIN:VEVENT
DTSTART;TZID=America/Winnipeg:20260120T181500
DTEND;TZID=America/Winnipeg:20260120T181500
DTSTAMP:20260421T231247
CREATED:20260102T161937Z
LAST-MODIFIED:20260402T180053Z
UID:27153-1768932900-1768932900@www.stgianna.ca
SUMMARY:6:15pm Rosary Prayer
DESCRIPTION:The communal praying of the rosary takes place at 6:15 p.m. in the Worship Space\, prior to the Novena Mass in honour of Saint Gianna. \n  \n  \n
URL:https://www.stgianna.ca/church-event/615pm-rosary-prayer-3/2026-01-20/
CATEGORIES:Parish
END:VEVENT
BEGIN:VEVENT
DTSTART;TZID=America/Winnipeg:20260120T190000
DTEND;TZID=America/Winnipeg:20260120T190000
DTSTAMP:20260421T231247
CREATED:20260102T162035Z
LAST-MODIFIED:20260402T180130Z
UID:27158-1768935600-1768935600@www.stgianna.ca
SUMMARY:7pm Novena Mass
DESCRIPTION:The Novena Mass in Honour of Saint Gianna\n\nA tradition of praying together\, celebrating the Eucharist and honouring the relics of this beloved Saint – a woman\, wife\, mother and a doctor.\n\nThe Novena Mass is celebrated weekly\, Tuesdays at 7:00pm. at St. Gianna’s Parish.\n\n\n\n
URL:https://www.stgianna.ca/church-event/7pm-novena-mass-3/2026-01-20/
LOCATION:15 Columbia Drive\, Winnipeg\, Manitoba\, R3Y 0R5\, Canada
GEO:49.8189597;-97.2059854
X-APPLE-STRUCTURED-LOCATION;VALUE=URI;X-ADDRESS=15 Columbia Drive Winnipeg Manitoba R3Y 0R5 Canada;X-APPLE-RADIUS=500;X-TITLE=15 Columbia Drive:geo:-97.2059854,49.8189597
CATEGORIES:Liturgy & Mass,Mass,Parish
END:VEVENT
END:VCALENDAR