BEGIN:VCALENDAR
VERSION:2.0
PRODID:-//St Gianna - ECPv4.6.13//NONSGML v1.0//EN
CALSCALE:GREGORIAN
METHOD:PUBLISH
X-WR-CALNAME:St Gianna
X-ORIGINAL-URL:https://www.stgianna.ca
X-WR-CALDESC:Events for St Gianna
BEGIN:VEVENT
DTSTART;TZID=America/Winnipeg:20241217T180000
DTEND;TZID=America/Winnipeg:20241217T185000
DTSTAMP:20260422T004734
CREATED:20241204T210553Z
LAST-MODIFIED:20241204T210600Z
UID:24297-1734458400-1734461400@www.stgianna.ca
SUMMARY:Sacrament of Reconciliation
DESCRIPTION:The Sacrament of Reconciliation is available Tuesday evening 6:00 p.m.-6:50 p.m.\, prior to the Novena Mass in Honour of St. Gianna. \n  \n  \n
URL:https://www.stgianna.ca/church-event/sacrament-of-reconciliation/2024-12-17/
CATEGORIES:Parish
END:VEVENT
END:VCALENDAR