BEGIN:VCALENDAR
VERSION:2.0
PRODID:-//St Gianna - ECPv4.6.13//NONSGML v1.0//EN
CALSCALE:GREGORIAN
METHOD:PUBLISH
X-WR-CALNAME:St Gianna
X-ORIGINAL-URL:https://www.stgianna.ca
X-WR-CALDESC:Events for St Gianna
BEGIN:VEVENT
DTSTART;TZID=America/Winnipeg:20241214T151500
DTEND;TZID=America/Winnipeg:20241214T161500
DTSTAMP:20260422T004853
CREATED:20241204T211433Z
LAST-MODIFIED:20241204T211433Z
UID:24307-1734189300-1734192900@www.stgianna.ca
SUMMARY:Sacrament of Reconciliation in Advent
DESCRIPTION:As we prepare for the great days of Christmas\, Advent provides a wonderful opportunity to make ourselves spiritually prepared for such a great Feast.  For many\, this time of preparation includes the opportunity to celebrate the Sacrament of Reconciliation.\n\nIn addition to the various communal celebrations around our deanery\, at St. Gianna’s\, the following times are available for celebrating the Sacrament of Reconciliation:\n\nDecember 1st  to  December 21st\, 2024\n\nTuesdays  6:00 p.m. – 6:50 p.m.\nWednesdays  10:30 a.m. – 11:30 a.m.\nSaturdays  3:15 p.m. – 4:15 p.m.\n\n\n\n
URL:https://www.stgianna.ca/church-event/sacrament-of-reconciliation-in-advent-2/2024-12-14/
CATEGORIES:Parish
END:VEVENT
END:VCALENDAR