BEGIN:VCALENDAR
VERSION:2.0
PRODID:-//St Gianna - ECPv4.6.13//NONSGML v1.0//EN
CALSCALE:GREGORIAN
METHOD:PUBLISH
X-WR-CALNAME:St Gianna
X-ORIGINAL-URL:https://www.stgianna.ca
X-WR-CALDESC:Events for St Gianna
BEGIN:VEVENT
DTSTART;TZID=America/Winnipeg:20251211T130000
DTEND;TZID=America/Winnipeg:20251211T150000
DTSTAMP:20260422T004736
CREATED:20250927T164930Z
LAST-MODIFIED:20250927T164930Z
UID:26993-1765458000-1765465200@www.stgianna.ca
SUMMARY:Prayer Shawl Ministry
DESCRIPTION:
URL:https://www.stgianna.ca/church-event/prayer-shawl-ministry/2025-12-11/
CATEGORIES:Parish
END:VEVENT
END:VCALENDAR