BEGIN:VCALENDAR
VERSION:2.0
PRODID:-//St Gianna - ECPv4.6.13//NONSGML v1.0//EN
CALSCALE:GREGORIAN
METHOD:PUBLISH
X-WR-CALNAME:St Gianna
X-ORIGINAL-URL:https://www.stgianna.ca
X-WR-CALDESC:Events for St Gianna
BEGIN:VEVENT
DTSTART;TZID=America/Winnipeg:20241003T130000
DTEND;TZID=America/Winnipeg:20241003T130000
DTSTAMP:20260422T005257
CREATED:20241002T214255Z
LAST-MODIFIED:20241109T204836Z
UID:23812-1727960400-1727960400@www.stgianna.ca
SUMMARY:Prayer Shawl Ministry
DESCRIPTION:
URL:https://www.stgianna.ca/church-event/prayer-shawl-ministry-7/2024-10-03/
CATEGORIES:Parish
END:VEVENT
END:VCALENDAR