BEGIN:VCALENDAR
VERSION:2.0
PRODID:-//St Gianna - ECPv4.6.13//NONSGML v1.0//EN
CALSCALE:GREGORIAN
METHOD:PUBLISH
X-WR-CALNAME:St Gianna
X-ORIGINAL-URL:https://www.stgianna.ca
X-WR-CALDESC:Events for St Gianna
BEGIN:VEVENT
DTSTART;TZID=America/Winnipeg:20240606T130000
DTEND;TZID=America/Winnipeg:20240606T150000
DTSTAMP:20260421T215510
CREATED:20240605T195521Z
LAST-MODIFIED:20240605T195521Z
UID:23109-1717678800-1717686000@www.stgianna.ca
SUMMARY:Prayer Shawl Ministry
DESCRIPTION:
URL:https://www.stgianna.ca/church-event/prayer-shawl-ministry-6/2024-06-06/
CATEGORIES:Parish
END:VEVENT
END:VCALENDAR