BEGIN:VCALENDAR
VERSION:2.0
PRODID:-//St Gianna - ECPv4.6.13//NONSGML v1.0//EN
CALSCALE:GREGORIAN
METHOD:PUBLISH
X-WR-CALNAME:St Gianna
X-ORIGINAL-URL:https://www.stgianna.ca
X-WR-CALDESC:Events for St Gianna
BEGIN:VEVENT
DTSTART;TZID=America/Winnipeg:20240502T130000
DTEND;TZID=America/Winnipeg:20240502T150000
DTSTAMP:20260421T215537
CREATED:20231230T195013Z
LAST-MODIFIED:20240503T152140Z
UID:22614-1714654800-1714662000@www.stgianna.ca
SUMMARY:Prayer Shawl Ministry
DESCRIPTION:
URL:https://www.stgianna.ca/church-event/prayer-shawl-ministry-5/2024-05-02/
CATEGORIES:Parish
END:VEVENT
END:VCALENDAR