BEGIN:VCALENDAR
VERSION:2.0
PRODID:-//St Gianna - ECPv4.6.13//NONSGML v1.0//EN
CALSCALE:GREGORIAN
METHOD:PUBLISH
X-WR-CALNAME:St Gianna
X-ORIGINAL-URL:https://www.stgianna.ca
X-WR-CALDESC:Events for St Gianna
BEGIN:VEVENT
DTSTART;TZID=America/Winnipeg:20260115T130000
DTEND;TZID=America/Winnipeg:20260115T150000
DTSTAMP:20260421T232112
CREATED:20260120T204940Z
LAST-MODIFIED:20260204T210757Z
UID:27283-1768482000-1768489200@www.stgianna.ca
SUMMARY:Prayer Shawl Ministry
DESCRIPTION:
URL:https://www.stgianna.ca/church-event/prayer-shawl-ministry-2/2026-01-15/
CATEGORIES:Parish
END:VEVENT
END:VCALENDAR