BEGIN:VCALENDAR
VERSION:2.0
PRODID:-//St Gianna - ECPv4.6.13//NONSGML v1.0//EN
CALSCALE:GREGORIAN
METHOD:PUBLISH
X-WR-CALNAME:St Gianna
X-ORIGINAL-URL:https://www.stgianna.ca
X-WR-CALDESC:Events for St Gianna
BEGIN:VEVENT
DTSTART;VALUE=DATE:20260214
DTEND;VALUE=DATE:20260215
DTSTAMP:20260421T215205
CREATED:20260206T162030Z
LAST-MODIFIED:20260206T162030Z
UID:27427-1771027200-1771113599@www.stgianna.ca
SUMMARY:Offices Closed
DESCRIPTION:*** Our Offices will be CLOSED Saturday\, February 14th\, 2026 for the February holiday long weekend ***\n(Doors will open at 3:30 p.m. as usual for the Saturday 4:30 p.m. Liturgy) \n  \n  \n  \n
URL:https://www.stgianna.ca/church-event/offices-closed-2/
CATEGORIES:Columbarium,Parish
END:VEVENT
END:VCALENDAR