BEGIN:VCALENDAR
VERSION:2.0
PRODID:-//St Gianna - ECPv4.6.13//NONSGML v1.0//EN
CALSCALE:GREGORIAN
METHOD:PUBLISH
X-WR-CALNAME:St Gianna
X-ORIGINAL-URL:https://www.stgianna.ca
X-WR-CALDESC:Events for St Gianna
BEGIN:VEVENT
DTSTART;VALUE=DATE:20250212
DTEND;VALUE=DATE:20250213
DTSTAMP:20260422T050138
CREATED:20250131T205737Z
LAST-MODIFIED:20250131T205831Z
UID:24633-1739318400-1739404799@www.stgianna.ca
SUMMARY:NO Mass
DESCRIPTION:
URL:https://www.stgianna.ca/church-event/no-mass/2025-02-12/
CATEGORIES:Parish
END:VEVENT
END:VCALENDAR