BEGIN:VCALENDAR
VERSION:2.0
PRODID:-//St Gianna - ECPv4.6.13//NONSGML v1.0//EN
CALSCALE:GREGORIAN
METHOD:PUBLISH
X-WR-CALNAME:St Gianna
X-ORIGINAL-URL:https://www.stgianna.ca
X-WR-CALDESC:Events for St Gianna
BEGIN:VEVENT
DTSTART;TZID=America/Winnipeg:20250903T080000
DTEND;TZID=America/Winnipeg:20250903T170000
DTSTAMP:20260424T104150
CREATED:20250831T162336Z
LAST-MODIFIED:20250831T162336Z
UID:25963-1756886400-1756918800@www.stgianna.ca
SUMMARY:NO Mass
DESCRIPTION:
URL:https://www.stgianna.ca/church-event/no-mass-7/2025-09-03/
CATEGORIES:Parish
END:VEVENT
END:VCALENDAR