BEGIN:VCALENDAR
VERSION:2.0
PRODID:-//St Gianna - ECPv4.6.13//NONSGML v1.0//EN
CALSCALE:GREGORIAN
METHOD:PUBLISH
X-WR-CALNAME:St Gianna
X-ORIGINAL-URL:https://www.stgianna.ca
X-WR-CALDESC:Events for St Gianna
BEGIN:VEVENT
DTSTART;VALUE=DATE:20250207
DTEND;VALUE=DATE:20250208
DTSTAMP:20260422T033953
CREATED:20250131T205805Z
LAST-MODIFIED:20250131T205805Z
UID:24634-1738886400-1738972799@www.stgianna.ca
SUMMARY:NO Mass
DESCRIPTION:
URL:https://www.stgianna.ca/church-event/no-mass-6/2025-02-07/
CATEGORIES:Parish
END:VEVENT
END:VCALENDAR