BEGIN:VCALENDAR
VERSION:2.0
PRODID:-//St Gianna - ECPv4.6.13//NONSGML v1.0//EN
CALSCALE:GREGORIAN
METHOD:PUBLISH
X-WR-CALNAME:St Gianna
X-ORIGINAL-URL:https://www.stgianna.ca
X-WR-CALDESC:Events for St Gianna
BEGIN:VEVENT
DTSTART;VALUE=DATE:20240920
DTEND;VALUE=DATE:20240921
DTSTAMP:20260422T013327
CREATED:20240904T141754Z
LAST-MODIFIED:20240904T141754Z
UID:23628-1726790400-1726876799@www.stgianna.ca
SUMMARY:No Mass
DESCRIPTION:
URL:https://www.stgianna.ca/church-event/no-mass-5/2024-09-20/
CATEGORIES:Parish
END:VEVENT
END:VCALENDAR