BEGIN:VCALENDAR
VERSION:2.0
PRODID:-//St Gianna - ECPv4.6.13//NONSGML v1.0//EN
CALSCALE:GREGORIAN
METHOD:PUBLISH
X-WR-CALNAME:St Gianna
X-ORIGINAL-URL:https://www.stgianna.ca
X-WR-CALDESC:Events for St Gianna
BEGIN:VEVENT
DTSTART;TZID=America/Winnipeg:20260308T120000
DTEND;TZID=America/Winnipeg:20260308T120000
DTSTAMP:20260421T203041
CREATED:20260228T175629Z
LAST-MODIFIED:20260228T175629Z
UID:27540-1772971200-1772971200@www.stgianna.ca
SUMMARY:Newcomers Information Session
DESCRIPTION:Sunday\, March 8th\, 2026\, following the 11:00 a.m. Liturgy \nLed by our Pastor\, Fr. Darrin\, this one hour presentation provides important information for all who are looking to become registered members of our parish community\, and is an essential first step in our registration process. \nIf you have relatives or friends who may be interested in joining our parish\, feel free to invite them to attend. \nclick:  Sign-up for the Upcoming Session \n  \n  \n  \n
URL:https://www.stgianna.ca/church-event/newcomers-information-session/
LOCATION:15 Columbia Drive\, Winnipeg\, Manitoba\, R3Y 0R5\, Canada
GEO:49.8189597;-97.2059854
X-APPLE-STRUCTURED-LOCATION;VALUE=URI;X-ADDRESS=15 Columbia Drive Winnipeg Manitoba R3Y 0R5 Canada;X-APPLE-RADIUS=500;X-TITLE=15 Columbia Drive:geo:-97.2059854,49.8189597
CATEGORIES:Parish
END:VEVENT
END:VCALENDAR