BEGIN:VCALENDAR
VERSION:2.0
PRODID:-//St Gianna - ECPv4.6.13//NONSGML v1.0//EN
CALSCALE:GREGORIAN
METHOD:PUBLISH
X-WR-CALNAME:St Gianna
X-ORIGINAL-URL:https://www.stgianna.ca
X-WR-CALDESC:Events for St Gianna
BEGIN:VEVENT
DTSTART;TZID=America/Winnipeg:20241030T183000
DTEND;TZID=America/Winnipeg:20241030T183000
DTSTAMP:20260422T004947
CREATED:20241018T205757Z
LAST-MODIFIED:20241128T210936Z
UID:23904-1730313000-1730313000@www.stgianna.ca
SUMMARY:Choir Practice
DESCRIPTION:
URL:https://www.stgianna.ca/church-event/choir-practice/2024-10-30/
CATEGORIES:Parish
END:VEVENT
END:VCALENDAR