BEGIN:VCALENDAR
VERSION:2.0
PRODID:-//St Gianna - ECPv4.6.13//NONSGML v1.0//EN
CALSCALE:GREGORIAN
METHOD:PUBLISH
X-WR-CALNAME:St Gianna
X-ORIGINAL-URL:https://www.stgianna.ca
X-WR-CALDESC:Events for St Gianna
BEGIN:VEVENT
DTSTART;TZID=America/Winnipeg:20240501T190000
DTEND;TZID=America/Winnipeg:20240501T190000
DTSTAMP:20260421T231933
CREATED:20240507T151624Z
LAST-MODIFIED:20240531T155928Z
UID:22869-1714590000-1714590000@www.stgianna.ca
SUMMARY:Choir Practice
DESCRIPTION:
URL:https://www.stgianna.ca/church-event/choir-practice-9/2024-05-01/
CATEGORIES:Parish
END:VEVENT
END:VCALENDAR