BEGIN:VCALENDAR
VERSION:2.0
PRODID:-//St Gianna - ECPv4.6.13//NONSGML v1.0//EN
CALSCALE:GREGORIAN
METHOD:PUBLISH
X-WR-CALNAME:St Gianna
X-ORIGINAL-URL:https://www.stgianna.ca
X-WR-CALDESC:Events for St Gianna
BEGIN:VEVENT
DTSTART;TZID=America/Winnipeg:20250924T190000
DTEND;TZID=America/Winnipeg:20250924T190000
DTSTAMP:20260424T124055
CREATED:20250906T194744Z
LAST-MODIFIED:20250906T194744Z
UID:26047-1758740400-1758740400@www.stgianna.ca
SUMMARY:Choir Practice
DESCRIPTION:
URL:https://www.stgianna.ca/church-event/choir-practice-4/2025-09-24/
CATEGORIES:Parish
END:VEVENT
END:VCALENDAR