BEGIN:VCALENDAR
VERSION:2.0
PRODID:-//St Gianna - ECPv4.6.13//NONSGML v1.0//EN
CALSCALE:GREGORIAN
METHOD:PUBLISH
X-WR-CALNAME:St Gianna
X-ORIGINAL-URL:https://www.stgianna.ca
X-WR-CALDESC:Events for St Gianna
BEGIN:VEVENT
DTSTART;TZID=America/Winnipeg:20251029T190000
DTEND;TZID=America/Winnipeg:20251029T190000
DTSTAMP:20260424T081839
CREATED:20250906T194744Z
LAST-MODIFIED:20251003T190152Z
UID:26052-1761764400-1761764400@www.stgianna.ca
SUMMARY:Choir Practice
DESCRIPTION:
URL:https://www.stgianna.ca/church-event/choir-practice-4-2025-10-08-2025-10-15/2025-10-29/
CATEGORIES:Parish
END:VEVENT
END:VCALENDAR