BEGIN:VCALENDAR
VERSION:2.0
PRODID:-//St Gianna - ECPv4.6.13//NONSGML v1.0//EN
CALSCALE:GREGORIAN
METHOD:PUBLISH
X-WR-CALNAME:St Gianna
X-ORIGINAL-URL:https://www.stgianna.ca
X-WR-CALDESC:Events for St Gianna
BEGIN:VEVENT
DTSTART;TZID=America/Winnipeg:20250416T183000
DTEND;TZID=America/Winnipeg:20250416T183000
DTSTAMP:20260422T031231
CREATED:20250222T165255Z
LAST-MODIFIED:20250222T165255Z
UID:24978-1744828200-1744828200@www.stgianna.ca
SUMMARY:Choir Practice
DESCRIPTION:
URL:https://www.stgianna.ca/church-event/choir-practice-2/2025-04-16/
CATEGORIES:Parish
END:VEVENT
END:VCALENDAR