BEGIN:VCALENDAR
VERSION:2.0
PRODID:-//St Gianna - ECPv4.6.13//NONSGML v1.0//EN
CALSCALE:GREGORIAN
METHOD:PUBLISH
X-WR-CALNAME:St Gianna
X-ORIGINAL-URL:https://www.stgianna.ca
X-WR-CALDESC:Events for St Gianna
BEGIN:VEVENT
DTSTART;TZID=America/Winnipeg:20250319T183000
DTEND;TZID=America/Winnipeg:20250319T183000
DTSTAMP:20260424T080946
CREATED:20250222T165255Z
LAST-MODIFIED:20250328T155502Z
UID:24788-1742409000-1742409000@www.stgianna.ca
SUMMARY:Choir Practice
DESCRIPTION:
URL:https://www.stgianna.ca/church-event/choir-practice-2/2025-03-19/
CATEGORIES:Parish
END:VEVENT
END:VCALENDAR