BEGIN:VCALENDAR
VERSION:2.0
PRODID:-//St Gianna - ECPv4.6.13//NONSGML v1.0//EN
CALSCALE:GREGORIAN
METHOD:PUBLISH
X-WR-CALNAME:St Gianna
X-ORIGINAL-URL:https://www.stgianna.ca
X-WR-CALDESC:Events for St Gianna
BEGIN:VEVENT
DTSTART;TZID=America/Winnipeg:20240911T183000
DTEND;TZID=America/Winnipeg:20240911T183000
DTSTAMP:20260422T002125
CREATED:20240904T142308Z
LAST-MODIFIED:20240904T142348Z
UID:23629-1726079400-1726079400@www.stgianna.ca
SUMMARY:Choir Practice
DESCRIPTION:
URL:https://www.stgianna.ca/church-event/choir-practice-13/2024-09-11/
CATEGORIES:Parish
END:VEVENT
END:VCALENDAR