BEGIN:VCALENDAR
VERSION:2.0
PRODID:-//St Gianna - ECPv4.6.13//NONSGML v1.0//EN
CALSCALE:GREGORIAN
METHOD:PUBLISH
X-WR-CALNAME:St Gianna
X-ORIGINAL-URL:https://www.stgianna.ca
X-WR-CALDESC:Events for St Gianna
BEGIN:VEVENT
DTSTART;TZID=America/Winnipeg:20251029T103000
DTEND;TZID=America/Winnipeg:20251029T103000
DTSTAMP:20260422T043100
CREATED:20250927T165245Z
LAST-MODIFIED:20250927T165245Z
UID:26149-1761733800-1761733800@www.stgianna.ca
SUMMARY:Book Club
DESCRIPTION:In honour of the month of Mary\, our next Book Club selection is ‘Behold your Mother’ by Tim Staples. \nIn this Apologetic discourse\, the author takes you through the Church’s teachings about the Blessed Virgin Mary\, showing firm Scriptural and historical roots and dismantling the objections of those who mistakenly believe that Mary competes for the attention due Christ alone. \nWe will gather together for reflection and fellowship on (2 options available): \nWednesday mornings at 10:30 a.m. for 6 weeks beginning on October 1st\, 2025 (in-person)\, \nOR \nMonday evenings at 6:30 p.m. for 6 weeks beginning on October 6th\, 2025 (via Zoom). \nPlease contact Rachel at rbanmann@stgianna.ca for more information and to register. \nA complimentary copy of the text will be given to all participants. \nPhysical copies of the book are available for purchase on Amazon or Indigo. \n  \n  \n
URL:https://www.stgianna.ca/church-event/book-club/2025-10-29/
CATEGORIES:Parish
END:VEVENT
END:VCALENDAR