BEGIN:VCALENDAR
VERSION:2.0
PRODID:-//St Gianna - ECPv4.6.13//NONSGML v1.0//EN
CALSCALE:GREGORIAN
METHOD:PUBLISH
X-WR-CALNAME:St Gianna
X-ORIGINAL-URL:https://www.stgianna.ca
X-WR-CALDESC:Events for St Gianna
BEGIN:VEVENT
DTSTART;VALUE=DATE:20260218
DTEND;VALUE=DATE:20260219
DTSTAMP:20260421T215234
CREATED:20260120T204829Z
LAST-MODIFIED:20260204T163701Z
UID:27281-1771372800-1771459199@www.stgianna.ca
SUMMARY:Ash Wednesday
DESCRIPTION:
URL:https://www.stgianna.ca/church-event/ash-wednesday/
CATEGORIES:Parish
END:VEVENT
END:VCALENDAR