BEGIN:VCALENDAR
VERSION:2.0
PRODID:-//St Gianna - ECPv4.6.13//NONSGML v1.0//EN
CALSCALE:GREGORIAN
METHOD:PUBLISH
X-WR-CALNAME:St Gianna
X-ORIGINAL-URL:https://www.stgianna.ca
X-WR-CALDESC:Events for St Gianna
BEGIN:VEVENT
DTSTART;TZID=America/Winnipeg:20260416T190000
DTEND;TZID=America/Winnipeg:20260416T190000
DTSTAMP:20260421T184958
CREATED:20260410T191044Z
LAST-MODIFIED:20260410T191110Z
UID:27831-1776366000-1776366000@www.stgianna.ca
SUMMARY:7pm Shroud of Turin Presentation
DESCRIPTION:WHO IS THE MAN ON THE SHROUD OF TURIN?\nFaith Formation Opportunity – Thursday\, April 16th\, 2026 \nSt. Gianna’s parish community will host a presentation on the Shroud of Turin\, led by Drs. Patrick and Chantal Fredette\, on Thursday\, April 16th\, 2026 at 7:00 p.m. \nA part of the Vatican Ministry on the Shroud\, this 90-minute visual based presentation\, will look at the history\, scientific and faith context of this most ancient relic of belief. \nAll are welcome! \n  \n  \n
URL:https://www.stgianna.ca/church-event/7pm-shroud-of-turin-presentation/
LOCATION:15 Columbia Drive\, Winnipeg\, Manitoba\, R3Y 0R5\, Canada
GEO:49.8189597;-97.2059854
X-APPLE-STRUCTURED-LOCATION;VALUE=URI;X-ADDRESS=15 Columbia Drive Winnipeg Manitoba R3Y 0R5 Canada;X-APPLE-RADIUS=500;X-TITLE=15 Columbia Drive:geo:-97.2059854,49.8189597
CATEGORIES:Parish
END:VEVENT
END:VCALENDAR