BEGIN:VCALENDAR
VERSION:2.0
PRODID:-//St Gianna - ECPv4.6.13//NONSGML v1.0//EN
CALSCALE:GREGORIAN
METHOD:PUBLISH
X-WR-CALNAME:St Gianna
X-ORIGINAL-URL:https://www.stgianna.ca
X-WR-CALDESC:Events for St Gianna
BEGIN:VEVENT
DTSTART;TZID=America/Winnipeg:20260326T190000
DTEND;TZID=America/Winnipeg:20260326T190000
DTSTAMP:20260421T202644
CREATED:20260312T192825Z
LAST-MODIFIED:20260313T193724Z
UID:27619-1774551600-1774551600@www.stgianna.ca
SUMMARY:7pm Penitential Service
DESCRIPTION:Parish Lenten Penitential Service at St. Gianna’s\nRevised Date: March 26th\n \nPLEASE NOTE:  Due to a conflict in scheduling\, St. Gianna’s Lenten Penitential Service has been rescheduled to Thursday\, March 26th at 7:00 p.m. \nA few priests will be available for all those who would like to celebrate the Sacrament of Reconciliation as a part of their Lenten preparation for Easter. \n  \n  \n
URL:https://www.stgianna.ca/church-event/7pm-penitential-service/
LOCATION:15 Columbia Drive\, Winnipeg\, Manitoba\, R3Y 0R5\, Canada
GEO:49.8189597;-97.2059854
X-APPLE-STRUCTURED-LOCATION;VALUE=URI;X-ADDRESS=15 Columbia Drive Winnipeg Manitoba R3Y 0R5 Canada;X-APPLE-RADIUS=500;X-TITLE=15 Columbia Drive:geo:-97.2059854,49.8189597
CATEGORIES:Parish
END:VEVENT
END:VCALENDAR