BEGIN:VCALENDAR
VERSION:2.0
PRODID:-//St Gianna - ECPv4.6.13//NONSGML v1.0//EN
CALSCALE:GREGORIAN
METHOD:PUBLISH
X-WR-CALNAME:St Gianna
X-ORIGINAL-URL:https://www.stgianna.ca
X-WR-CALDESC:Events for St Gianna
BEGIN:VEVENT
DTSTART;TZID=America/Winnipeg:20250313T190000
DTEND;TZID=America/Winnipeg:20250313T190000
DTSTAMP:20260422T050249
CREATED:20250308T170937Z
LAST-MODIFIED:20250328T155308Z
UID:24855-1741892400-1741892400@www.stgianna.ca
SUMMARY:7:00pm Way of the Cross
DESCRIPTION:Communal Praying of The Way of the Cross \nThursday during Lent\, beginning March 13th\, 2025. \n  \n  \n
URL:https://www.stgianna.ca/church-event/700pm-way-of-the-cross-2/2025-03-13/
LOCATION:15 Columbia Drive\, Winnipeg\, Manitoba\, R3Y 0R5\, Canada
GEO:49.8189597;-97.2059854
X-APPLE-STRUCTURED-LOCATION;VALUE=URI;X-ADDRESS=15 Columbia Drive Winnipeg Manitoba R3Y 0R5 Canada;X-APPLE-RADIUS=500;X-TITLE=15 Columbia Drive:geo:-97.2059854,49.8189597
CATEGORIES:Parish
END:VEVENT
END:VCALENDAR