BEGIN:VCALENDAR
VERSION:2.0
PRODID:-//St Gianna - ECPv4.6.13//NONSGML v1.0//EN
CALSCALE:GREGORIAN
METHOD:PUBLISH
X-WR-CALNAME:St Gianna
X-ORIGINAL-URL:https://www.stgianna.ca
X-WR-CALDESC:Events for St Gianna
BEGIN:VEVENT
DTSTART;TZID=America/Winnipeg:20240702T181500
DTEND;TZID=America/Winnipeg:20240702T181500
DTSTAMP:20260421T220012
CREATED:20231230T204340Z
LAST-MODIFIED:20241128T210646Z
UID:23281-1719944100-1719944100@www.stgianna.ca
SUMMARY:6:15pm Rosary Prayer
DESCRIPTION:The communal praying of the rosary takes place at 6:15pm in the Worship Space\, prior to the Novena Mass in honour of Saint Gianna. \n  \n  \n  \n
URL:https://www.stgianna.ca/church-event/615pm-rosary-prayer-4/2024-07-02/
CATEGORIES:Parish
END:VEVENT
END:VCALENDAR