BEGIN:VCALENDAR
VERSION:2.0
PRODID:-//St Gianna - ECPv4.6.13//NONSGML v1.0//EN
CALSCALE:GREGORIAN
METHOD:PUBLISH
X-WR-CALNAME:St Gianna
X-ORIGINAL-URL:https://www.stgianna.ca
X-WR-CALDESC:Events for St Gianna
BEGIN:VEVENT
DTSTART;TZID=America/Winnipeg:20260210T181500
DTEND;TZID=America/Winnipeg:20260210T181500
DTSTAMP:20260421T215510
CREATED:20260102T161937Z
LAST-MODIFIED:20260402T180053Z
UID:27264-1770747300-1770747300@www.stgianna.ca
SUMMARY:6:15pm Rosary Prayer
DESCRIPTION:The communal praying of the rosary takes place at 6:15 p.m. in the Worship Space\, prior to the Novena Mass in honour of Saint Gianna. \n  \n  \n
URL:https://www.stgianna.ca/church-event/615pm-rosary-prayer-3/2026-02-10/
CATEGORIES:Parish
END:VEVENT
END:VCALENDAR