BEGIN:VCALENDAR
VERSION:2.0
PRODID:-//St Gianna - ECPv4.6.13//NONSGML v1.0//EN
CALSCALE:GREGORIAN
METHOD:PUBLISH
X-WR-CALNAME:St Gianna
X-ORIGINAL-URL:https://www.stgianna.ca
X-WR-CALDESC:Events for St Gianna
BEGIN:VEVENT
DTSTART;TZID=America/Winnipeg:20251125T181500
DTEND;TZID=America/Winnipeg:20251125T181500
DTSTAMP:20260422T045030
CREATED:20251025T184730Z
LAST-MODIFIED:20251126T203105Z
UID:26404-1764094500-1764094500@www.stgianna.ca
SUMMARY:6:15pm Rosary Prayer
DESCRIPTION:The communal praying of the rosary takes place at 6:15 p.m. in the Worship Space\, prior to the Novena Mass in honour of Saint Gianna. \n  \n  \n
URL:https://www.stgianna.ca/church-event/615pm-rosary-prayer-2/2025-11-25/
CATEGORIES:Parish
END:VEVENT
END:VCALENDAR