BEGIN:VCALENDAR
VERSION:2.0
PRODID:-//St Gianna - ECPv4.6.13//NONSGML v1.0//EN
CALSCALE:GREGORIAN
METHOD:PUBLISH
X-WR-CALNAME:St Gianna
X-ORIGINAL-URL:https://www.stgianna.ca
X-WR-CALDESC:Events for St Gianna
BEGIN:VEVENT
DTSTART;TZID=America/Winnipeg:20260423T130000
DTEND;TZID=America/Winnipeg:20260423T150000
DTSTAMP:20260421T143232
CREATED:20260410T191618Z
LAST-MODIFIED:20260410T191618Z
UID:27838-1776949200-1776956400@www.stgianna.ca
SUMMARY:1pm Prayer Shawl Ministry
DESCRIPTION:
URL:https://www.stgianna.ca/church-event/1pm-prayer-shawl-ministry/2026-04-23/
CATEGORIES:Parish
END:VEVENT
END:VCALENDAR