BEGIN:VCALENDAR
VERSION:2.0
PRODID:-//St Gianna - ECPv4.6.13//NONSGML v1.0//EN
CALSCALE:GREGORIAN
METHOD:PUBLISH
X-WR-CALNAME:St Gianna
X-ORIGINAL-URL:https://www.stgianna.ca
X-WR-CALDESC:Events for St Gianna
BEGIN:VEVENT
DTSTART;TZID=America/Winnipeg:20231206T100000
DTEND;TZID=America/Winnipeg:20231206T100000
DTSTAMP:20260422T004142
CREATED:20231128T161305Z
LAST-MODIFIED:20240724T161710Z
UID:21700-1701856800-1701856800@www.stgianna.ca
SUMMARY:10:00am Weekday Mass
DESCRIPTION:
URL:https://www.stgianna.ca/church-event/1000am-weekday-mass-13/2023-12-06/
LOCATION:15 Columbia Drive\, Winnipeg\, Manitoba\, R3Y 0R5\, Canada
GEO:49.8189597;-97.2059854
X-APPLE-STRUCTURED-LOCATION;VALUE=URI;X-ADDRESS=15 Columbia Drive Winnipeg Manitoba R3Y 0R5 Canada;X-APPLE-RADIUS=500;X-TITLE=15 Columbia Drive:geo:-97.2059854,49.8189597
CATEGORIES:Liturgy & Mass,Mass,Parish
END:VEVENT
END:VCALENDAR